BEGIN:VCALENDAR
VERSION:2.0
PRODID:-//eventon.com NONSGML v1.0//EN
CALSCALE:GREGORIAN
METHOD:PUBLISH
BEGIN:VEVENT
UID:69e89a8d01072
DTSTAMP:20260422T095317Z
DTSTART:20230707T215900Z
DTEND:20230707T215000Z
LOCATION:
SUMMARY:DJ VirDJil
DESCRIPTION:DJ VirDJil annonce la couleur : « Je vais vous faire chalouper
 \,  bringuebaler\,  chahuter autour de la planète musicale ». Venez donc 
 le suivre.\nhttps://mjc-charlieu.fr/events/dj-virdjil-2/
URL:https://mjc-charlieu.fr/events/dj-virdjil-2/
END:VEVENT
END:VCALENDAR